BEGIN:VCALENDAR
VERSION:2.0
PRODID:-//Master Arms - ECPv6.15.20//NONSGML v1.0//EN
CALSCALE:GREGORIAN
METHOD:PUBLISH
X-WR-CALNAME:Master Arms
X-ORIGINAL-URL:https://masterarms.se
X-WR-CALDESC:Events for Master Arms
REFRESH-INTERVAL;VALUE=DURATION:PT1H
X-Robots-Tag:noindex
X-PUBLISHED-TTL:PT1H
BEGIN:VTIMEZONE
TZID:Europe/Stockholm
BEGIN:DAYLIGHT
TZOFFSETFROM:+0100
TZOFFSETTO:+0200
TZNAME:CEST
DTSTART:20250330T010000
END:DAYLIGHT
BEGIN:STANDARD
TZOFFSETFROM:+0200
TZOFFSETTO:+0100
TZNAME:CET
DTSTART:20251026T010000
END:STANDARD
BEGIN:DAYLIGHT
TZOFFSETFROM:+0100
TZOFFSETTO:+0200
TZNAME:CEST
DTSTART:20260329T010000
END:DAYLIGHT
BEGIN:STANDARD
TZOFFSETFROM:+0200
TZOFFSETTO:+0100
TZNAME:CET
DTSTART:20261025T010000
END:STANDARD
BEGIN:DAYLIGHT
TZOFFSETFROM:+0100
TZOFFSETTO:+0200
TZNAME:CEST
DTSTART:20270328T010000
END:DAYLIGHT
BEGIN:STANDARD
TZOFFSETFROM:+0200
TZOFFSETTO:+0100
TZNAME:CET
DTSTART:20271031T010000
END:STANDARD
END:VTIMEZONE
BEGIN:VEVENT
DTSTART;TZID=Europe/Stockholm:20260203T193000
DTEND;TZID=Europe/Stockholm:20260203T220000
DTSTAMP:20260423T185636
CREATED:20260202T082427Z
LAST-MODIFIED:20260203T183102Z
UID:18292-1770147000-1770156000@masterarms.se
SUMMARY:Training tuesday
DESCRIPTION:Everyone’s welcome to this training! \nTraining Mission: CA\, daytime. \nPlanned Training: \n1. F/A-18C\n– Case 1 recovery for rookies.\nIn 2-ships (with experienced flight lead) perform the Case 1 procedure from Check-In to Trap. \n2. F-16C\n– TBU \n3. F-14B\n– TBU \n4. AJS 37\n– TBU \n5. A-10C II\n– TBU \n6. AH-64D/OH-58D\n– TBU \n7. AWACS/ATC\n– TBU \nAdditional Training Suggestions: \n* Practice things in the syllabus for your main aircraft\n* Tanker intercepts and rejoins Jax Tutorial\n* Tac turns Wiki\n* CASE 1 recovery Wiki\n* Overhead break Wiki\n* Time-on-target \nSign up\, then organize yourselves into flights to practice relevant stuff!
URL:https://masterarms.se/event/training-tuesday-123/
LOCATION:Caucasus
CATEGORIES:Övning
ATTACH;FMTTYPE=image/png:https://masterarms.se/wp-content/uploads/2025/04/TrainingNight.png
END:VEVENT
BEGIN:VEVENT
DTSTART;TZID=Europe/Stockholm:20260210T193000
DTEND;TZID=Europe/Stockholm:20260210T220000
DTSTAMP:20260423T185636
CREATED:20260202T200530Z
LAST-MODIFIED:20260209T211041Z
UID:18306-1770751800-1770760800@masterarms.se
SUMMARY:Training Tuesday with Case 3 in daylight
DESCRIPTION:Everyone’s welcome to this training if you enjoy the weather! (If desired\, alternate weather can be had on the secondary server.) \nTraining Mission: (CA\, day\, low overcast) \nPlanned Training: \nA pre-brief will be held at 19.00\, featuring detailed instructions on the Case 3 recovery procedure. The regular briefing at 19.30 will only cover flight assignments\, comms plan and such. \n1. F/A-18C\n– Practice the Case 3 recovery procedure with the benefit of daylight in the stack. Low clouds will impede visibility as you descend. \n2. F-16C\n– TBU \n3. F-14B\n– Case 3 \n4. AJS 37\n– TBU \n5. A-10C II\n– TBU \n6. AH-64D/OH-58D\n– TBU \n7. AWACS/ATC\n– TBU \nAdditional Training Suggestions: \n* Practice things in the syllabus for your main aircraft\n* Tanker intercepts and rejoins Jax Tutorial\n* Tac turns Wiki\n* CASE 1 recovery Wiki\n* Overhead break Wiki\n* Time-on-target \nSign up\, then organize yourselves into flights to practice relevant stuff!
URL:https://masterarms.se/event/training-tuesday-with-case-3-in-daylight/
LOCATION:Caucasus
CATEGORIES:Övning
ATTACH;FMTTYPE=image/png:https://masterarms.se/wp-content/uploads/2025/04/TrainingNight.png
END:VEVENT
BEGIN:VEVENT
DTSTART;TZID=Europe/Stockholm:20260217T193000
DTEND;TZID=Europe/Stockholm:20260217T220000
DTSTAMP:20260423T185636
CREATED:20260215T140637Z
LAST-MODIFIED:20260216T133805Z
UID:18398-1771356600-1771365600@masterarms.se
SUMMARY:Training tuesday
DESCRIPTION:Everyone’s welcome to this training! \nTraining Mission: Syria\, day \nPlanned Training: \n1. F/A-18C\n– A2G target acquisition and weapons employment \n2. F-16C\n– TBU \n3. F-14B\n– TBU \n4. AJS 37\n– TBU \n5. A-10C II\n– TBU \n6. AH-64D/OH-58D\n– Actions on contact/Basic combat manouvering. \n7. AWACS/ATC\n– TBU \nAdditional Training Suggestions: \n* Practice things in the syllabus for your main aircraft\n* Tanker intercepts and rejoins Jax Tutorial\n* Tac turns Wiki\n* CASE 1 recovery Wiki\n* Overhead break Wiki\n* Time-on-target \nSign up\, then organize yourselves into flights to practice relevant stuff!
URL:https://masterarms.se/event/training-tuesday-124/
LOCATION:Syria
CATEGORIES:Övning
ATTACH;FMTTYPE=image/png:https://masterarms.se/wp-content/uploads/2025/04/TrainingNight.png
END:VEVENT
BEGIN:VEVENT
DTSTART;TZID=Europe/Stockholm:20260224T193000
DTEND;TZID=Europe/Stockholm:20260224T220000
DTSTAMP:20260423T185636
CREATED:20260221T073012Z
LAST-MODIFIED:20260223T200039Z
UID:18421-1771961400-1771970400@masterarms.se
SUMMARY:Training Tuesday
DESCRIPTION:Everyone’s welcome to this training! \nTraining Mission: Syria\, daytime \nPlanned Training: \n1. F/A-18C\n– Basic SEAD with AGM-88 HARM \n2. F-16C\n– TBU \n3. F-14B\n– TBU \n4. AJS 37\n– TBU \n5. A-10C II\n– TBU \n6. AH-64D/OH-58D\nKiowas will be practicing dumb weapons – Rockets and 0.50cal. See Casmos videos before training:\nhttps://www.youtube.com/watch?v=Vy5spI5kWy0\nhttps://youtu.be/2laUsRDxGhM?si=HuHMki8vrIW5mGGe \n7. AWACS/ATC\n– TBU \nAdditional Training Suggestions: \n* Practice things in the syllabus for your main aircraft\n* Tanker intercepts and rejoins Jax Tutorial\n* Tac turns Wiki\n* CASE 1 recovery Wiki\n* Overhead break Wiki\n* Time-on-target \nSign up\, then organize yourselves into flights to practice relevant stuff!
URL:https://masterarms.se/event/training-tuesday-125/
LOCATION:Syria
CATEGORIES:Övning
ATTACH;FMTTYPE=image/png:https://masterarms.se/wp-content/uploads/2025/04/TrainingNight.png
END:VEVENT
END:VCALENDAR