BEGIN:VCALENDAR
VERSION:2.0
PRODID:-//Master Arms - ECPv6.15.20//NONSGML v1.0//EN
CALSCALE:GREGORIAN
METHOD:PUBLISH
X-WR-CALNAME:Master Arms
X-ORIGINAL-URL:https://masterarms.se
X-WR-CALDESC:Events for Master Arms
REFRESH-INTERVAL;VALUE=DURATION:PT1H
X-Robots-Tag:noindex
X-PUBLISHED-TTL:PT1H
BEGIN:VTIMEZONE
TZID:Europe/Stockholm
BEGIN:DAYLIGHT
TZOFFSETFROM:+0100
TZOFFSETTO:+0200
TZNAME:CEST
DTSTART:20250330T010000
END:DAYLIGHT
BEGIN:STANDARD
TZOFFSETFROM:+0200
TZOFFSETTO:+0100
TZNAME:CET
DTSTART:20251026T010000
END:STANDARD
BEGIN:DAYLIGHT
TZOFFSETFROM:+0100
TZOFFSETTO:+0200
TZNAME:CEST
DTSTART:20260329T010000
END:DAYLIGHT
BEGIN:STANDARD
TZOFFSETFROM:+0200
TZOFFSETTO:+0100
TZNAME:CET
DTSTART:20261025T010000
END:STANDARD
BEGIN:DAYLIGHT
TZOFFSETFROM:+0100
TZOFFSETTO:+0200
TZNAME:CEST
DTSTART:20270328T010000
END:DAYLIGHT
BEGIN:STANDARD
TZOFFSETFROM:+0200
TZOFFSETTO:+0100
TZNAME:CET
DTSTART:20271031T010000
END:STANDARD
END:VTIMEZONE
BEGIN:VEVENT
DTSTART;TZID=Europe/Stockholm:20260106T193000
DTEND;TZID=Europe/Stockholm:20260106T220000
DTSTAMP:20260423T235311
CREATED:20260104T092900Z
LAST-MODIFIED:20260104T094624Z
UID:18087-1767727800-1767736800@masterarms.se
SUMMARY:Training Tuesday
DESCRIPTION:Everyone’s welcome to this training! \nTraining Mission: COLD WAR GERMANY – DAY \nPlanned Training: \n1. F/A-18C\n– TBU \n2. F-16C\n– TBU \n3. F-14B\n– TBU \n4. AJS 37\n– TBU \n5. A-10C II\n– TBU \n6. AH-64D/OH-58D\n“Kill the shilka!” \nSingle ship or SWT conduct low level/NoE movement to get close enough to kill the shilka with dumb rockets or 0.50cal only.\nPurpouse is to practice NoE flying methods with situational awareness. \n7. AWACS/ATC\n– TBU \nAdditional Training Suggestions: \n* Practice things in the syllabus for your main aircraft\n* Tanker intercepts and rejoins Jax Tutorial\n* Tac turns Wiki\n* CASE 1 recovery Wiki\n* Overhead break Wiki\n* Time-on-target \nSign up\, then organize yourselves into flights to practice relevant stuff!
URL:https://masterarms.se/event/training-tuesday-119/
LOCATION:Cold War Germany
CATEGORIES:Övning
ATTACH;FMTTYPE=image/png:https://masterarms.se/wp-content/uploads/2025/04/TrainingNight.png
END:VEVENT
BEGIN:VEVENT
DTSTART;TZID=Europe/Stockholm:20260113T193000
DTEND;TZID=Europe/Stockholm:20260113T220000
DTSTAMP:20260423T235311
CREATED:20260111T194838Z
LAST-MODIFIED:20260111T194838Z
UID:18127-1768332600-1768341600@masterarms.se
SUMMARY:Training Tuesday
DESCRIPTION:Everyone’s welcome to this training! \nTraining Mission: CA \nPlanned Training: \n1. F/A-18C\n– BVR/CAP tactics. And if distance/time/energy allows\, end it all with a Case I recovery 🙂 \n2. F-16C\n– TBU \n3. F-14B\n– TBU \n4. AJS 37\n– TBU \n5. A-10C II\n– TBU \n6. AH-64D/OH-58D\n– TBU \n7. AWACS/ATC\n– TBU \nAdditional Training Suggestions: \n* Practice things in the syllabus for your main aircraft\n* Tanker intercepts and rejoins Jax Tutorial\n* Tac turns Wiki\n* CASE 1 recovery Wiki\n* Overhead break Wiki\n* Time-on-target \nSign up\, then organize yourselves into flights to practice relevant stuff!
URL:https://masterarms.se/event/training-tuesday-120/
LOCATION:Caucasus
CATEGORIES:Övning
ATTACH;FMTTYPE=image/png:https://masterarms.se/wp-content/uploads/2022/08/TrainingNight.png
END:VEVENT
BEGIN:VEVENT
DTSTART;TZID=Europe/Stockholm:20260120T193000
DTEND;TZID=Europe/Stockholm:20260120T220000
DTSTAMP:20260423T235311
CREATED:20260118T184331Z
LAST-MODIFIED:20260118T204024Z
UID:18164-1768937400-1768946400@masterarms.se
SUMMARY:Training Tuesday
DESCRIPTION:Everyone’s welcome to this training! \nTraining Mission: CA\, Day. \nPlanned Training: \n1. F/A-18C\n– Fox 1 engagements 2v1 and 2v2 \n2. F-16C\n– TBU \n3. F-14B\n– TBU \n4. AJS 37\n– TBU \n5. A-10C II\n– TBU \n6. AH-64D/OH-58D\n– TBU \n7. AWACS/ATC\n– TBU \nAdditional Training Suggestions: \n* Practice things in the syllabus for your main aircraft\n* Tanker intercepts and rejoins Jax Tutorial\n* Tac turns Wiki\n* CASE 1 recovery Wiki\n* Overhead break Wiki\n* Time-on-target \nSign up\, then organize yourselves into flights to practice relevant stuff!
URL:https://masterarms.se/event/training-tuesday-121/
LOCATION:Caucasus
CATEGORIES:Övning
ATTACH;FMTTYPE=image/png:https://masterarms.se/wp-content/uploads/2025/04/TrainingNight.png
END:VEVENT
BEGIN:VEVENT
DTSTART;TZID=Europe/Stockholm:20260127T193000
DTEND;TZID=Europe/Stockholm:20260127T220000
DTSTAMP:20260423T235311
CREATED:20260125T080559Z
LAST-MODIFIED:20260127T135529Z
UID:18188-1769542200-1769551200@masterarms.se
SUMMARY:Training Tuesday
DESCRIPTION:Everyone’s welcome to this training! \nTraining Mission: Primary server – CA\, Night \nTraining Mission: Secondary server – CA\, Day \nPlanned Training: \n1. F/A-18C\n– Night BVR and AAR (Vipers and Tomcats are welcome to join in) \n2. F-16C\n– Night BVR \n3. F-14B\n– Night BVR \n4. AJS 37\n– TBU \n5. A-10C II\n– TBU \n6. AH-64D/OH-58D\n– Movement to contact.\nRead\nhttps://wiki.hoggitworld.com/view/Attack_Helicopter_Operations paragraph 1-5.\nhttps://aviation-assets.info/wp-content/uploads/fm-3-04-126-attack-reconnaissance-helicopter-operations.pdf Section VI – Movement to contact page 149. \n7. AWACS/ATC\n– TBU \nAdditional Training Suggestions: \n* Practice things in the syllabus for your main aircraft\n* Tanker intercepts and rejoins Jax Tutorial\n* Tac turns Wiki\n* CASE 1 recovery Wiki\n* Overhead break Wiki\n* Time-on-target \nSign up\, then organize yourselves into flights to practice relevant stuff!
URL:https://masterarms.se/event/training-tuesday-122/
LOCATION:Caucasus
CATEGORIES:Övning
ATTACH;FMTTYPE=image/png:https://masterarms.se/wp-content/uploads/2025/04/TrainingNight.png
END:VEVENT
END:VCALENDAR