BEGIN:VCALENDAR
VERSION:2.0
PRODID:-//Master Arms - ECPv6.15.20//NONSGML v1.0//EN
CALSCALE:GREGORIAN
METHOD:PUBLISH
X-ORIGINAL-URL:https://masterarms.se
X-WR-CALDESC:Events for Master Arms
REFRESH-INTERVAL;VALUE=DURATION:PT1H
X-Robots-Tag:noindex
X-PUBLISHED-TTL:PT1H
BEGIN:VTIMEZONE
TZID:Europe/Stockholm
BEGIN:DAYLIGHT
TZOFFSETFROM:+0100
TZOFFSETTO:+0200
TZNAME:CEST
DTSTART:20230326T010000
END:DAYLIGHT
BEGIN:STANDARD
TZOFFSETFROM:+0200
TZOFFSETTO:+0100
TZNAME:CET
DTSTART:20231029T010000
END:STANDARD
BEGIN:DAYLIGHT
TZOFFSETFROM:+0100
TZOFFSETTO:+0200
TZNAME:CEST
DTSTART:20240331T010000
END:DAYLIGHT
BEGIN:STANDARD
TZOFFSETFROM:+0200
TZOFFSETTO:+0100
TZNAME:CET
DTSTART:20241027T010000
END:STANDARD
BEGIN:DAYLIGHT
TZOFFSETFROM:+0100
TZOFFSETTO:+0200
TZNAME:CEST
DTSTART:20250330T010000
END:DAYLIGHT
BEGIN:STANDARD
TZOFFSETFROM:+0200
TZOFFSETTO:+0100
TZNAME:CET
DTSTART:20251026T010000
END:STANDARD
BEGIN:DAYLIGHT
TZOFFSETFROM:+0100
TZOFFSETTO:+0200
TZNAME:CEST
DTSTART:20260329T010000
END:DAYLIGHT
BEGIN:STANDARD
TZOFFSETFROM:+0200
TZOFFSETTO:+0100
TZNAME:CET
DTSTART:20261025T010000
END:STANDARD
END:VTIMEZONE
BEGIN:VEVENT
DTSTART;TZID=Europe/Stockholm:20250222T193000
DTEND;TZID=Europe/Stockholm:20250222T220000
DTSTAMP:20260420T185933
CREATED:20250221T082048Z
LAST-MODIFIED:20250222T100531Z
UID:10890-1740252600-1740261600@masterarms.se
SUMMARY:Foothold Saturday: Murmansk pool party
DESCRIPTION:Orientering\nEfter vårt anfall mot Kandalaksha och de stora framsteg mot Alarkourtti så har den ryska logistiken nästan kollapsat. Det är dock en SA-10 som hindrar oss från att anfalla Monchegorsk. \nAktuell spaningsinformation: \n \n  \nUppdrag\nVårt uppdrag är att slå ut SA-10:an. \nGenomförande\nFlygplatser som används är Kirkenes\, Ivalo och möjligtvis Severomorsk 3 och Murmansk. Samling på holding point (WPT 6) sedan uppdelning i två grupper som går in mot SA-10:an från olika håll. Föreslår en från nord\, en från väst.\nOBS: SA-10:an är uppdelad i flera “grupper” så fokusera på radarer\, speciellt tracking radarn. \nBriefing 19:30 takeoff 20:00. \nWAYPOINTS:\n1: Murmansk\n2: Severomorsk 3\n3: Severormorsk 1\n4: Kirkenes\n5: Ivalo\n6: Holding (Prirechnyi)\n7: SA-10 (N 63 14.000 E 031 15.000) \nLogistik\nInga tankers\, de ligger ovanför Ivalo. Eftersom en AWACS ligger ovanför Ivalo så har vi nog bra radar- och datalänktäckning. \nStridsledning\nIngen human AWACS i nuläget. Gemensam kanal UHF 3. \n 
URL:https://masterarms.se/event/foothold-saturday-murmansk-pool-party/
CATEGORIES:Foothold
ATTACH;FMTTYPE=image/jpeg:https://masterarms.se/wp-content/uploads/2024/09/15800713_1092346744220780_2494488831321426660_o.jpg
END:VEVENT
BEGIN:VEVENT
DTSTART;TZID=Europe/Stockholm:20250215T200000
DTEND;TZID=Europe/Stockholm:20250215T223000
DTSTAMP:20260420T185933
CREATED:20250213T185005Z
LAST-MODIFIED:20250214T191818Z
UID:10845-1739649600-1739658600@masterarms.se
SUMMARY:Foothold Saturday- Kandalaksha Deep Strike
DESCRIPTION:Situation\nEfter Kemi Tornio och Rovaniemi är befriade så transporteras nästan hela ryska logistiken på järnvägen och motorvägen längs Loukhi / Kandalaksha / Apatity och sen till Olenya där allt fördelas med flygplan till olika platser i Finland och Norge. Området är dock bra försvarat\, tidigare spaningsuppdrag har visat SA-11 och SA-15 men utan exakt position. Fientligt luftvärn finns (förmodligen) på LOUKHI (söder om målområdet) och nära KANDALAKSHA.\n \nDet finns två broar nära Kandalaksha där all trafik mot Olenya måste passera. \n \nJärnvägen\, östra bron: \n \nMotorvägen\, västra bron: \n \nUppdrag\nKvällens uppdrag är att slå ut dessa två\, om möjligt. Om anfallet mot huvudmålet är omöjligt eller bedöms för riskfullt så är det sekundära målet ZELENOBORSKI STORAGE söder om det egentliga målet. \nGenomföring\nAnfallet måste genomföras med minst en 2000lbs bomb på varje mål. Önskemål är en 4-ship som strike. Dessutom behövs minst två fpl som SEAD escort.\nDet finns två möjliga anfallsriktningar:\n– VOUJÄRVI – SAVUKOSKI – KANDALAKSHA med i dagsläget oklart SAM hot på Alakourtti och Kovdor samt fientlig CAP i området\n– KEMI TORNIO – skog 60nm öster om KUUSAMO – nordväst till KANDALAKSHA. Längre sträcka med oklart läge vid ZELENOBORSKI. \n\nFörhoppningen är att få något bättre information genom ett spaningsuppdrag planerat fredag eller lördag.\nAnfallet sker i HI-LO-HI profile\, de sista 100nm kommer ske på låg höjd\, hög fart. Sen en popup mot målet medan SEAD flighten håller ner luftvärnet i området.\nEn mer detaljerad plan kommer på lördag (lite mer info efter spaning\, koordinater osv). \nRoute tool\nEftersom alla steerpoints över hela kartan finns på alla dynamiska slots\, så rekommenderas det att lägga till en custom route med route tool. Innan du joinar in på en slot\, välj verktyget\, lägg till alla steerpoints\, välj “use this route on next spawn”\, sen joina.\n\nSteerpoints som behövs: \nKemi Tornio\nN 65°46.934′\, E 024°34.950′\n35 W LN 89364 97766\n13m\, 41ft \nRovaniemi\nN 66°33.931′\, E 025°49.806′\n35 W MP 48082 83432\n195m\, 639ft \nVoujärvi\nN 67°04.079′\, E 026°32.138′\n35 W MQ 79809 39033\n224m\, 736ft \nKandalaksha road bridge\nN 67°06.395′\, E 032°08.205′\n36 W VV 62526 43522\n0m\, 0ft \nKandalaksha rail bridge\nN 67°07.271′\, E 032°15.353′\n36 W VV 67717 45081\n0m\, 0ft \nZelenoborski storage\nN 66°48.618′\, E 032°18.920′\n36 W VV 69915 10397\n57m\, 186ft \n  \nSekundärt mål ZELENOBORSKI STORAGE\nAnfallet mot det sekundära målet sker endast om vi inte lyckas att ta oss fram till det primära målet. \n\nMålet är att slå ut såväl fuel tanks / stationen bredvid järnvägen som bunkern (om ammunitionen duger till en bunker). \nLogistik\nInga tankers i området p g a allmänt hot. Se till att räkna ut bingo beroende på flygplanstyp. VOUJÄRVI – MÅL är ungefär 150nm\, KEMI TORNIO – MÅL är nog närmare 250nm. \nLedning / Kommunikation\nTo be announced.\nIngen stridsledning i nuläget. Som vanligt så sker kommunikation via UHF 3 TACTICAL (see kneeboard). \nKeywords\n– BACKDOOR: Byt mål till ZELENOBORSKI.
URL:https://masterarms.se/event/foothold-saturday-kandalaksha-deep-strike/
CATEGORIES:Foothold
ATTACH;FMTTYPE=image/png:https://masterarms.se/wp-content/uploads/2025/02/FL_header-2025-02-15.png
END:VEVENT
BEGIN:VEVENT
DTSTART;TZID=Europe/Stockholm:20240330T200000
DTEND;TZID=Europe/Stockholm:20240330T235900
DTSTAMP:20260420T185933
CREATED:20240328T230138Z
LAST-MODIFIED:20240328T230138Z
UID:8135-1711828800-1711843140@masterarms.se
SUMMARY:Foothold Saturday
DESCRIPTION:Denna lördag kör vi om det vi påbörjade\, omstart och mer structurer. Kommer vara svårare A/G mål.
URL:https://masterarms.se/event/foothold-saturday-2/
CATEGORIES:Foothold
END:VEVENT
END:VCALENDAR